Workbook

Sheet 2026硕士
A1: 学号 | B1: 姓名 | C1: 奖学金等级 | D1: 专业名称
A2: 502026340001 | B2: 陈泽文 | C2: 一等 | D2: 光学工程
A3: 502026340002 | B3: 窦胤祺 | C3: 二等 | D3: 光学工程
A4: 502026340003 | B4: 耿方子 | C4: 一等 | D4: 光学工程
A5: 502026340004 | B5: 胡海龙 | C5: 一等 | D5: 光学工程
A6: 502026340005 | B6: 黄尉钦 | C6: 三等 | D6: 光学工程
A7: 502026340006 | B7: 梁二铭 | C7: 一等 | D7: 光学工程
A8: 502026340007 | B8: 刘孙畅 | C8: 一等 | D8: 光学工程
A9: 502026340008 | B9: 刘天佑 | C9: 一等 | D9: 光学工程
A10: 502026340009 | B10: 刘旖旎 | C10: 一等 | D10: 光学工程
A11: 502026340010 | B11: 苏卓锐 | C11: 一等 | D11: 光学工程
A12: 502026340011 | B12: 谭哲 | C12: 一等 | D12: 光学工程
... A158: 522026340097 | B158: 周宇欣 | C158: 二等 | D158: 材料与化工

Sheet 2025硕士
A1: 学号 | B1: 姓名 | C1: 奖学金等级 | D1: 专业名称
A2: 502024340033 | B2: 綦阳 | C2: =VLOOKUP(A2,[1]一等候选!$A$1:$D$38,4,0) -> 一等 | D2: 材料科学与工程
A3: 502025340001 | B3: 高佳兴 | C3: =VLOOKUP(A3,[1]一等候选!$A$1:$D$38,4,0) -> 一等 | D3: 光学工程
A4: 502025340002 | B4: 黄浩骏 | C4: =VLOOKUP(A4,[1]一等候选!$A$1:$D$38,4,0) -> 一等 | D4: 光学工程
A5: 502025340003 | B5: 李睿 | C5: =IFERROR(VLOOKUP(A5,[1]二等!$A$1:$C$78,3,0),"0") -> 二等 | D5: 光学工程
A6: 502025340004 | B6: 刘昊纬 | C6: =VLOOKUP(A6,[1]三等候选!$A$1:$H$37,8,0) -> 三等 | D6: 光学工程
A7: 502025340005 | B7: 刘旭琦 | C7: =IFERROR(VLOOKUP(A7,[1]二等!$A$1:$C$78,3,0),"0") -> 二等 | D7: 光学工程
A8: 502025340006 | B8: 马祥驭 | C8: =IFERROR(VLOOKUP(A8,[1]二等!$A$1:$C$78,3,0),"0") -> 二等 | D8: 光学工程
A9: 502025340007 | B9: 邱辉福 | C9: =IFERROR(VLOOKUP(A9,[1]二等!$A$1:$C$78,3,0),"0") -> 二等 | D9: 光学工程
A10: 502025340008 | B10: 沈承霆 | C10: =VLOOKUP(A10,[1]一等候选!$A$1:$D$38,4,0) -> 一等 | D10: 光学工程
A11: 502025340009 | B11: 孙嘉豪 | C11: =VLOOKUP(A11,[1]一等候选!$A$1:$D$38,4,0) -> 一等 | D11: 光学工程
A12: 502025340010 | B12: 王世壮 | C12: =IFERROR(VLOOKUP(A12,[1]二等!$A$1:$C$78,3,0),"0") -> 二等 | D12: 光学工程
A13: 502025340011 | B13: 王晔 | C13: =IFERROR(VLOOKUP(A13,[1]二等!$A$1:$C$78,3,0),"0") -> 二等 | D13: 光学工程
A14: 502025340012 | B14: 徐青云 | C14: =VLOOKUP(A14,[1]三等候选!$A$1:$H$37,8,0) -> 三等 | D14: 光学工程
A15: 502025340013 | B15: 杨骏飞 | C15: =IFERROR(VLOOKUP(A15,[1]二等!$A$1:$C$78,3,0),"0") -> 二等 | D15: 光学工程
A16: 502025340014 | B16: 袁赵棋 | C16: =IFERROR(VLOOKUP(A16,[1]二等!$A$1:$C$78,3,0),"0") -> 二等 | D16: 光学工程
A17: 502025340015 | B17: 张成 | C17: =VLOOKUP(A17,[1]三等候选!$A$1:$H$37,8,0) -> 三等 | D17: 光学工程
A18: 502025340016 | B18: 朱潮柏 | C18: =IFERROR(VLOOKUP(A18,[1]二等!$A$1:$C$78,3,0),"0") -> 二等 | D18: 光学工程
A19: 502025340017 | B19: 曹晋 | C19: =VLOOKUP(A19,[1]一等候选!$A$1:$D$38,4,0) -> 一等 | D19: 材料科学与工程
A20: 502025340018 | B20: 陈昊 | C20: =VLOOKUP(A20,[1]一等候选!$A$1:$D$38,4,0) -> 一等 | D20: 材料科学与工程
A21: 502025340019 | B21: 陈佳桢 | C21: =VLOOKUP(A21,[1]一等候选!$A$1:$D$38,4,0) -> 一等 | D21: 材料科学与工程
A22: 502025340020 | B22: 陈宇 | C22: =IFERROR(VLOOKUP(A22,[1]二等!$A$1:$C$78,3,0),"0") -> 二等 | D22: 材料科学与工程
A23: 502025340021 | B23: 邓亿萱 | C23: =VLOOKUP(A23,[1]三等候选!$A$1:$H$37,8,0) -> 二等 | D23: 材料科学与工程
A24: 502025340022 | B24: 戈永杰 | C24: =IFERROR(VLOOKUP(A24,[1]二等!$A$1:$C$78,3,0),"0") -> 二等 | D24: 材料科学与工程
A25: 502025340023 | B25: 关淑俊 | C25: =IFERROR(VLOOKUP(A25,[1]二等!$A$1:$C$78,3,0),"0") -> 二等 | D25: 材料科学与工程
A26: 502025340024 | B26: 韩文卓 | C26: =IFERROR(VLOOKUP(A26,[1]二等!$A$1:$C$78,3,0),"0") -> 二等 | D26: 材料科学与工程
A27: 502025340025 | B27: 蒋怡冰 | C27: =IFERROR(VLOOKUP(A27,[1]二等!$A$1:$C$78,3,0),"0") -> 二等 | D27: 材料科学与工程
A28: 502025340026 | B28: 李瑞思 | C28: =IFERROR(VLOOKUP(A28,[1]二等!$A$1:$C$78,3,0),"0") -> 二等 | D28: 材料科学与工程
A29: 502025340027 | B29: 李善雪 | C29: =VLOOKUP(A29,[1]一等候选!$A$1:$D$38,4,0) -> 一等 | D29: 材料科学与工程
A30: 502025340028 | B30: 李相曈 | C30: =VLOOKUP(A30,[1]一等候选!$A$1:$D$38,4,0) -> 二等 | D30: 材料科学与工程
A31: 502025340029 | B31: 廖浩辰 | C31: =VLOOKUP(A31,[1]一等候选!$A$1:$D$38,4,0) -> 一等 | D31: 材料科学与工程
A32: 502025340030 | B32: 刘诗晨 | C32: =IFERROR(VLOOKUP(A32,[1]二等!$A$1:$C$78,3,0),"0") -> 二等 | D32: 材料科学与工程
A33: 502025340031 | B33: 罗婉月 | C33: =VLOOKUP(A33,[1]三等候选!$A$1:$H$37,8,0) -> 二等 | D33: 材料科学与工程
A34: 502025340032 | B34: 孟爽 | C34: =IFERROR(VLOOKUP(A34,[1]二等!$A$1:$C$78,3,0),"0") -> 二等 | D34: 材料科学与工程
A35: 502025340033 | B35: 沈君成 | C35: =VLOOKUP(A35,[1]三等候选!$A$1:$H$37,8,0) -> 三等 | D35: 材料科学与工程
A36: 502025340034 | B36: 施怡辰 | C36: =IFERROR(VLOOKUP(A36,[1]二等!$A$1:$C$78,3,0),"0") -> 二等 | D36: 材料科学与工程
A37: 502025340036 | B37: 谭启玥 | C37: =IFERROR(VLOOKUP(A37,[1]二等!$A$1:$C$78,3,0),"0") -> 二等 | D37: 材料科学与工程
A38: 502025340037 | B38: 王冬妍 | C38: =IFERROR(VLOOKUP(A38,[1]二等!$A$1:$C$78,3,0),"0") -> 二等 | D38: 材料科学与工程
A39: 502025340039 | B39: 危浩然 | C39: =IFERROR(VLOOKUP(A39,[1]二等!$A$1:$C$78,3,0),"0") -> 二等 | D39: 材料科学与工程
A40: 502025340040 | B40: 谢绎哲 | C40: =IFERROR(VLOOKUP(A40,[1]二等!$A$1:$C$78,3,0),"0") -> 二等 | D40: 材料科学与工程
A41: 502025340041 | B41: 薛钦文 | C41: =IFERROR(VLOOKUP(A41,[1]二等!$A$1:$C$78,3,0),"0") -> 二等 | D41: 材料科学与工程
A42: 502025340042 | B42: 杨婧 | C42: =VLOOKUP(A42,[1]三等候选!$A$1:$H$37,8,0) -> 三等 | D42: 材料科学与工程
A43: 502025340043 | B43: 姚熙杰 | C43: =IFERROR(VLOOKUP(A43,[1]二等!$A$1:$C$78,3,0),"0") -> 二等 | D43: 材料科学与工程
A44: 502025340044 | B44: 殷滕 | C44: =IFERROR(VLOOKUP(A44,[1]二等!$A$1:$C$78,3,0),"0") -> 二等 | D44: 材料科学与工程
A45: 502025340045 | B45: 尹海涛 | C45: =IFERROR(VLOOKUP(A45,[1]二等!$A$1:$C$78,3,0),"0") -> 二等 | D45: 材料科学与工程
A46: 502025340046 | B46: 余雅 | C46: =VLOOKUP(A46,[1]三等候选!$A$1:$H$37,8,0) -> 三等 | D46: 材料科学与工程
A47: 502025340047 | B47: 张博文 | C47: =VLOOKUP(A47,[1]三等候选!$A$1:$H$37,8,0) -> 三等 | D47: 材料科学与工程
A48: 502025340048 | B48: 赵鑫萍 | C48: =VLOOKUP(A48,[1]三等候选!$A$1:$H$37,8,0) -> 二等 | D48: 材料科学与工程
A49: 502025340049 | B49: 钟颖璇 | C49: =VLOOKUP(A49,[1]三等候选!$A$1:$H$37,8,0) -> 二等 | D49: 材料科学与工程
A50: 502025340050 | B50: 邹春秀 | C50: =IFERROR(VLOOKUP(A50,[1]二等!$A$1:$C$78,3,0),"0") -> 二等 | D50: 材料科学与工程
A51: 502025340051 | B51: 窦心悦 | C51: =IFERROR(VLOOKUP(A51,[1]二等!$A$1:$C$78,3,0),"0") -> 二等 | D51: 健康工程
A52: 502025340052 | B52: 陆潮慧 | C52: =VLOOKUP(A52,[1]一等候选!$A$1:$D$38,4,0) -> 一等 | D52: 健康工程
A53: 502025340053 | B53: 钱宇劲 | C53: =IFERROR(VLOOKUP(A53,[1]二等!$A$1:$C$78,3,0),"0") -> 二等 | D53: 健康工程
A54: 502025340054 | B54: 孙同卓 | C54: =VLOOKUP(A54,[1]三等候选!$A$1:$H$37,8,0) -> 三等 | D54: 健康工程
A55: 502025340055 | B55: 王梦姝 | C55: =VLOOKUP(A55,[1]一等候选!$A$1:$D$38,4,0) -> 一等 | D55: 健康工程
A56: 502025340056 | B56: 姚媛媛 | C56: =IFERROR(VLOOKUP(A56,[1]二等!$A$1:$C$78,3,0),"0") -> 二等 | D56: 健康工程
A57: 502025340057 | B57: 张玉霞 | C57: =IFERROR(VLOOKUP(A57,[1]二等!$A$1:$C$78,3,0),"0") -> 二等 | D57: 健康工程
A58: 522025340001 | B58: 白梦琪 | C58: =IFERROR(VLOOKUP(A58,[1]二等!$A$1:$C$78,3,0),"0") -> 二等 | D58: 电子信息
A59: 522025340002 | B59: 陈子烨 | C59: =VLOOKUP(A59,[1]三等候选!$A$1:$H$37,8,0) -> 三等 | D59: 电子信息
A60: 522025340003 | B60: 丁志笑 | C60: =VLOOKUP(A60,[1]一等候选!$A$1:$D$38,4,0) -> 一等 | D60: 电子信息
A61: 522025340004 | B61: 葛嘉昊 | C61: =IFERROR(VLOOKUP(A61,[1]二等!$A$1:$C$78,3,0),"0") -> 二等 | D61: 电子信息
A62: 522025340005 | B62: 桂今 | C62: =IFERROR(VLOOKUP(A62,[1]二等!$A$1:$C$78,3,0),"0") -> 二等 | D62: 电子信息
A63: 522025340006 | B63: 何浚钦 | C63: =VLOOKUP(A63,[1]三等候选!$A$1:$H$37,8,0) -> 三等 | D63: 电子信息
A64: 522025340007 | B64: 胡腾 | C64: =VLOOKUP(A64,[1]一等候选!$A$1:$D$38,4,0) -> 一等 | D64: 电子信息
A65: 522025340008 | B65: 黄尚佚 | C65: =IFERROR(VLOOKUP(A65,[1]二等!$A$1:$C$78,3,0),"0") -> 二等 | D65: 电子信息
A66: 522025340009 | B66: 江亚楠 | C66: =VLOOKUP(A66,[1]三等候选!$A$1:$H$37,8,0) -> 三等 | D66: 电子信息
A67: 522025340010 | B67: 姜楠 | C67: =VLOOKUP(A67,[1]一等候选!$A$1:$D$38,4,0) -> 一等 | D67: 电子信息
A68: 522025340011 | B68: 匡正之 | C68: =IFERROR(VLOOKUP(A68,[1]二等!$A$1:$C$78,3,0),"0") -> 二等 | D68: 电子信息
A69: 522025340012 | B69: 李柏兆 | C69: =IFERROR(VLOOKUP(A69,[1]二等!$A$1:$C$78,3,0),"0") -> 二等 | D69: 电子信息
A70: 522025340013 | B70: 李丹阳 | C70: =IFERROR(VLOOKUP(A70,[1]二等!$A$1:$C$78,3,0),"0") -> 二等 | D70: 电子信息
A71: 522025340014 | B71: 李明磊 | C71: =IFERROR(VLOOKUP(A71,[1]二等!$A$1:$C$78,3,0),"0") -> 二等 | D71: 电子信息
A72: 522025340015 | B72: 李天齐 | C72: =IFERROR(VLOOKUP(A72,[1]二等!$A$1:$C$78,3,0),"0") -> 二等 | D72: 电子信息
A73: 522025340016 | B73: 梁月曦 | C73: =IFERROR(VLOOKUP(A73,[1]二等!$A$1:$C$78,3,0),"0") -> 二等 | D73: 电子信息
A74: 522025340017 | B74: 梁梓萌 | C74: =VLOOKUP(A74,[1]一等候选!$A$1:$D$38,4,0) -> 一等 | D74: 电子信息
A75: 522025340018 | B75: 刘益 | C75: =IFERROR(VLOOKUP(A75,[1]二等!$A$1:$C$78,3,0),"0") -> 二等 | D75: 电子信息
A76: 522025340019 | B76: 刘云鹏 | C76: =VLOOKUP(A76,[1]三等候选!$A$1:$H$37,8,0) -> 三等 | D76: 电子信息
A77: 522025340020 | B77: 罗杨 | C77: =IFERROR(VLOOKUP(A77,[1]二等!$A$1:$C$78,3,0),"0") -> 二等 | D77: 电子信息
A78: 522025340021 | B78: 马国强 | C78: =IFERROR(VLOOKUP(A78,[1]二等!$A$1:$C$78,3,0),"0") -> 二等 | D78: 电子信息
A79: 522025340022 | B79: 倪靖宇 | C79: =VLOOKUP(A79,[1]三等候选!$A$1:$H$37,8,0) -> 三等 | D79: 电子信息
A80: 522025340023 | B80: 戚圳宁 | C80: =VLOOKUP(A80,[1]一等候选!$A$1:$D$38,4,0) -> 一等 | D80: 电子信息
A81: 522025340024 | B81: 孙睿琦 | C81: =IFERROR(VLOOKUP(A81,[1]二等!$A$1:$C$78,3,0),"0") -> 二等 | D81: 电子信息
A82: 522025340025 | B82: 孙瑜 | C82: =VLOOKUP(A82,[1]三等候选!$A$1:$H$37,8,0) -> 三等 | D82: 电子信息
A83: 522025340026 | B83: 覃铃帆 | C83: =IFERROR(VLOOKUP(A83,[1]二等!$A$1:$C$78,3,0),"0") -> 二等 | D83: 电子信息
A84: 522025340027 | B84: 汪宇航 | C84: =VLOOKUP(A84,[1]三等候选!$A$1:$H$37,8,0) -> 三等 | D84: 电子信息
A85: 522025340028 | B85: 王昊 | C85: =VLOOKUP(A85,[1]三等候选!$A$1:$H$37,8,0) -> 三等 | D85: 电子信息
A86: 522025340029 | B86: 王鹏欣 | C86: =IFERROR(VLOOKUP(A86,[1]二等!$A$1:$C$78,3,0),"0") -> 二等 | D86: 电子信息
A87: 522025340030 | B87: 王新宇 | C87: =VLOOKUP(A87,[1]一等候选!$A$1:$D$38,4,0) -> 一等 | D87: 电子信息
A88: 522025340031 | B88: 谢达棋 | C88: =IFERROR(VLOOKUP(A88,[1]二等!$A$1:$C$78,3,0),"0") -> 二等 | D88: 电子信息
A89: 522025340032 | B89: 杨皓竣 | C89: =IFERROR(VLOOKUP(A89,[1]二等!$A$1:$C$78,3,0),"0") -> 二等 | D89: 电子信息
A90: 522025340033 | B90: 曾琪 | C90: =VLOOKUP(A90,[1]一等候选!$A$1:$D$38,4,0) -> 一等 | D90: 电子信息
A91: 522025340034 | B91: 张孝然 | C91: =IFERROR(VLOOKUP(A91,[1]二等!$A$1:$C$78,3,0),"0") -> 二等 | D91: 电子信息
A92: 522025340035 | B92: 朱晓雪 | C92: =VLOOKUP(A92,[1]一等候选!$A$1:$D$38,4,0) -> 一等 | D92: 电子信息
A93: 522025340036 | B93: 陈淼 | C93: =VLOOKUP(A93,[1]三等候选!$A$1:$H$37,8,0) -> 二等 | D93: 材料与化工
A94: 522025340037 | B94: 陈旗康 | C94: =IFERROR(VLOOKUP(A94,[1]二等!$A$1:$C$78,3,0),"0") -> 二等 | D94: 材料与化工
A95: 522025340038 | B95: 初潇峰 | C95: =VLOOKUP(A95,[1]三等候选!$A$1:$H$37,8,0) -> 三等 | D95: 材料与化工
A96: 522025340039 | B96: 董佳瑶 | C96: =VLOOKUP(A96,[1]三等候选!$A$1:$H$37,8,0) -> 二等 | D96: 材料与化工
A97: 522025340040 | B97: 董行健 | C97: =VLOOKUP(A97,[1]一等候选!$A$1:$D$38,4,0) -> 二等 | D97: 材料与化工
A98: 522025340041 | B98: 杜昕悦 | C98: =IFERROR(VLOOKUP(A98,[1]二等!$A$1:$C$78,3,0),"0") -> 二等 | D98: 材料与化工
A99: 522025340042 | B99: 段嘉恒 | C99: =VLOOKUP(A99,[1]三等候选!$A$1:$H$37,8,0) -> 三等 | D99: 材料与化工
A100: 522025340043 | B100: 顾凡响 | C100: =IFERROR(VLOOKUP(A100,[1]二等!$A$1:$C$78,3,0),"0") -> 二等 | D100: 材料与化工
...

Sheet 2024硕士
A1: 学号 | B1: 姓名 | C1: 奖学金等级 | D1: 专业名称
A2: 502024340001 | B2: 陈晓雨 | C2: 二等 | D2: 光学工程
A3: 502024340002 | B3: 董骁睿 | C3: 二等 | D3: 光学工程
A4: 502024340003 | B4: 杜嘉烨 | C4: 三等 | D4: 光学工程
A5: 502024340004 | B5: 冯泽堃 | C5: 一等 | D5: 光学工程
A6: 502024340005 | B6: 江畅 | C6: 一等 | D6: 光学工程
A7: 502024340006 | B7: 李晶晶 | C7: 二等 | D7: 光学工程
A8: 502024340007 | B8: 李小鹏 | C8: 一等 | D8: 光学工程
A9: 502024340008 | B9: 刘帮威 | C9: 三等 | D9: 光学工程
A10: 502024340009 | B10: 刘彦麟 | C10: 二等 | D10: 光学工程
A11: 502024340010 | B11: 马嘉琦 | C11: 二等 | D11: 光学工程
A12: 502024340011 | B12: 戚凤林 | C12: 二等 | D12: 光学工程
... A135: 522024340096 | B135: 邹瑞颖 | C135: 二等 | D135: 材料与化工

Sheet 2026博士
A1: 学号 | B1: 姓名 | C1: 奖学金等级 | D1: 专业名称
A2: 602026340001 | B2: 白成昊 | C2: 10000 | D2: 光学工程
A3: 602026340002 | B3: 蔡乐潇 | C3: 10000 | D3: 光学工程
A4: 602026340004 | B4: 陈佳浩 | C4: 10000 | D4: 光学工程
A5: 602026340005 | B5: 成思远 | C5: 10000 | D5: 光学工程
A6: 602026340006 | B6: 杜晓敏 | C6: 10000 | D6: 光学工程
A7: 602026340007 | B7: 段嘉瑞 | C7: 10000 | D7: 光学工程
A8: 602026340008 | B8: 冯森 | C8: 10000 | D8: 光学工程
A9: 602026340009 | B9: 郭柯楠 | C9: 10000 | D9: 光学工程
A10: 602026340010 | B10: 胡邦彦 | C10: 10000 | D10: 光学工程
A11: 602026340011 | B11: 胡姚琳 | C11: 10000 | D11: 光学工程
A12: 602026340012 | B12: 黄嘉昇 | C12: 10000 | D12: 光学工程
A13: 602026340013 | B13: 蓝睿博 | C13: 10000 | D13: 光学工程
... A211: 662026340001 | B211: 高志超 | C211: 10000 | D211: 材料与化工

Sheet 2025博士
A1: 学号 | B1: 姓名 | C1: 奖学金等级 | D1: 专业名称
A2: 602025340001 | B2: 卞震尧 | C2: 10000 | D2: 光学工程
A3: 602025340002 | B3: 陈超 | C3: 10000 | D3: 光学工程
A4: 602025340003 | B4: 陈慧锋 | C4: 10000 | D4: 光学工程
A5: 602025340004 | B5: 杜晓阳 | C5: 10000 | D5: 光学工程
A6: 602025340005 | B6: 樊浩 | C6: 10000 | D6: 光学工程
A7: 602025340006 | B7: 范哲玮 | C7: 10000 | D7: 光学工程
A8: 602025340007 | B8: 贺坚 | C8: 10000 | D8: 光学工程
A9: 602025340008 | B9: 黄文健 | C9: 10000 | D9: 光学工程
A10: 602025340009 | B10: 蒋权 | C10: 10000 | D10: 光学工程
A11: 602025340010 | B11: 李桂泷 | C11: 10000 | D11: 光学工程
A12: 602025340011 | B12: 刘磊 | C12: 10000 | D12: 光学工程
A13: 602025340012 | B13: 闵书强 | C13: 10000 | D13: 光学工程
... A187: 662025340001 | B187: 刘凌逸 | C187: 10000 | D187: 电子信息

Sheet 2024博士
A1: 学号 | B1: 姓名 | C1: 奖学金等级 | D1: 专业名称
A2: 602024340001 | B2: 蔡和意 | C2: 12000 | D2: 光学工程
A3: 602024340002 | B3: 陈闻 | C3: 12000 | D3: 光学工程
A4: 602024340003 | B4: 褚衍浩 | C4: 12000 | D4: 光学工程
A5: 602024340004 | B5: 冯元 | C5: 12000 | D5: 光学工程
A6: 602024340005 | B6: 郭祥瑞 | C6: 10000 | D6: 光学工程
A7: 602024340006 | B7: 解志浩 | C7: 10000 | D7: 光学工程
A8: 602024340007 | B8: 李钢 | C8: 10000 | D8: 光学工程
A9: 602024340008 | B9: 李湘 | C9: 12000 | D9: 光学工程
A10: 602024340009 | B10: 梁嘉畅 | C10: 10000 | D10: 光学工程
A11: 602024340010 | B11: 田绍尧 | C11: 12000 | D11: 光学工程
A12: 602024340011 | B12: 王光耀 | C12: 12000 | D12: 光学工程
A13: 602024340012 | B13: 王云凯 | C13: 12000 | D13: 光学工程
... A154: 662024340003 | B154: 朱柏融 | C154: 10000 | D154: 电子信息

Sheet 2023博士
A1: 学号 | B1: 姓名 | C1: 奖学金等级 | D1: 专业名称
A2: 602023340001 | B2: 范亚强 | C2: 12000 | D2: 光学工程
A3: 602023340002 | B3: 方韶晨 | C3: 12000 | D3: 光学工程
A4: 602023340003 | B4: 冀苗苗 | C4: 12000 | D4: 光学工程
A5: 602023340004 | B5: 姜成凯 | C5: 12000 | D5: 光学工程
A6: 602023340005 | B6: 李雪昀 | C6: 12000 | D6: 光学工程
A7: 602023340006 | B7: 刘玉凯 | C7: 12000 | D7: 光学工程
A8: 602023340007 | B8: 刘兆亿 | C8: 12000 | D8: 光学工程
A9: 602023340008 | B9: 卢志利 | C9: 12000 | D9: 光学工程
A10: 602023340009 | B10: 穆蓉秋 | C10: 12000 | D10: 光学工程
A11: 602023340010 | B11: 潘锦涛 | C11: 12000 | D11: 光学工程
A12: 602023340011 | B12: 潘凯彦 | C12: 12000 | D12: 光学工程
A13: 602023340012 | B13: 潘瑞恺 | C13: 12000 | D13: 光学工程
... A147: 662023340006 | B147: 张书源 | C147: 10000 | D147: 电子信息

Sheet 2022直博
A1: 学号 | B1: 姓名 | C1: 奖学金等级 | D1: 专业名称
A2: 652022340001 | B2: 刚泽宇 | C2: 12000 | D2: 光学工程
A3: 652022340002 | B3: 李红亮 | C3: 12000 | D3: 光学工程
A4: 652022340003 | B4: 刘瀚文 | C4: 12000 | D4: 光学工程
A5: 652022340004 | B5: 刘曼曼 | C5: 12000 | D5: 光学工程
A6: 652022340005 | B6: 孙文韬 | C6: 12000 | D6: 光学工程
A7: 652022340006 | B7: 田健雄 | C7: 12000 | D7: 光学工程
A8: 652022340007 | B8: 王琦光 | C8: 12000 | D8: 光学工程
A9: 652022340008 | B9: 谢谦 | C9: 12000 | D9: 光学工程
A10: 652022340009 | B10: 谢升宏 | C10: 12000 | D10: 光学工程
A11: 652022340010 | B11: 杨石冲 | C11: 12000 | D11: 光学工程
A12: 652022340011 | B12: 杨彤彤 | C12: 12000 | D12: 光学工程
A13: 652022340012 | B13: 喻箫 | C13: 12000 | D13: 光学工程
... A37: 652022340036 | B37: 程文宇 | C37: 12000 | D37: 健康工程
